BEGIN:VCALENDAR
VERSION:2.0
PRODID:-//enduro.ee - ECPv6.3.4//NONSGML v1.0//EN
CALSCALE:GREGORIAN
METHOD:PUBLISH
X-ORIGINAL-URL:https://enduro.ee/wp
X-WR-CALDESC:Events for enduro.ee
REFRESH-INTERVAL;VALUE=DURATION:PT1H
X-Robots-Tag:noindex
X-PUBLISHED-TTL:PT1H
BEGIN:VTIMEZONE
TZID:Europe/Tallinn
BEGIN:DAYLIGHT
TZOFFSETFROM:+0200
TZOFFSETTO:+0300
TZNAME:EEST
DTSTART:20210328T010000
END:DAYLIGHT
BEGIN:STANDARD
TZOFFSETFROM:+0300
TZOFFSETTO:+0200
TZNAME:EET
DTSTART:20211031T010000
END:STANDARD
END:VTIMEZONE
BEGIN:VEVENT
DTSTART;VALUE=DATE:20210515
DTEND;VALUE=DATE:20210516
DTSTAMP:20260425T202048
CREATED:20201205T155444Z
LAST-MODIFIED:20210423T173631Z
UID:805-1621036800-1621123199@enduro.ee
SUMMARY:Estonian Enduro Weekend 2021 - Leigo
DESCRIPTION:15 mai ühepäevane enduro Leigol mis on nii EESS ja EMV
URL:https://enduro.ee/wp/kalender/estonian-enduro-weekend-2021-leigo/
LOCATION:Leigo Talu\, Lutike küla\, Otepää vald\, Valgamaa\, Estonia
CATEGORIES:EESS - Estonian Enduro Super Series,EKV - Eesti karikavõistlus,EMV - Eesti meistrivõistlus
ORGANIZER;CN="MT%C3%9C V%C3%B5rtsj%C3%A4rve Ekstreem Enduro":MAILTO:riho.kollist@gmail.com
END:VEVENT
END:VCALENDAR